BEGIN:VCALENDAR
VERSION:2.0
PRODID:-//Visit Gig Harbor, Washington - ECPv6.15.20//NONSGML v1.0//EN
CALSCALE:GREGORIAN
METHOD:PUBLISH
X-WR-CALNAME:Visit Gig Harbor, Washington
X-ORIGINAL-URL:https://visitgigharbor.com
X-WR-CALDESC:Events for Visit Gig Harbor, Washington
REFRESH-INTERVAL;VALUE=DURATION:PT1H
X-Robots-Tag:noindex
X-PUBLISHED-TTL:PT1H
BEGIN:VTIMEZONE
TZID:America/Los_Angeles
BEGIN:DAYLIGHT
TZOFFSETFROM:-0800
TZOFFSETTO:-0700
TZNAME:PDT
DTSTART:20250309T100000
END:DAYLIGHT
BEGIN:STANDARD
TZOFFSETFROM:-0700
TZOFFSETTO:-0800
TZNAME:PST
DTSTART:20251102T090000
END:STANDARD
BEGIN:DAYLIGHT
TZOFFSETFROM:-0800
TZOFFSETTO:-0700
TZNAME:PDT
DTSTART:20260308T100000
END:DAYLIGHT
BEGIN:STANDARD
TZOFFSETFROM:-0700
TZOFFSETTO:-0800
TZNAME:PST
DTSTART:20261101T090000
END:STANDARD
BEGIN:DAYLIGHT
TZOFFSETFROM:-0800
TZOFFSETTO:-0700
TZNAME:PDT
DTSTART:20270314T100000
END:DAYLIGHT
BEGIN:STANDARD
TZOFFSETFROM:-0700
TZOFFSETTO:-0800
TZNAME:PST
DTSTART:20271107T090000
END:STANDARD
END:VTIMEZONE
BEGIN:VEVENT
DTSTART;TZID=America/Los_Angeles:20260422T080000
DTEND;TZID=America/Los_Angeles:20260422T170000
DTSTAMP:20260420T204613
CREATED:20250318T213457Z
LAST-MODIFIED:20250318T213459Z
UID:10001504-1776844800-1776877200@visitgigharbor.com
SUMMARY:Seine Skiff Building Project
DESCRIPTION:Be Part of Gig Harbor’s Maritime History! \n\n\n\nThe Gig Harbor BoatShop is hard at work crafting a Seine Skiff to accompany the historic purse seiner Veteran! Whether you want to lend a hand\, support the project with a donation\, or simply watch the boat take shape\, you’re invited to stop by and see the progress.
URL:https://visitgigharbor.com/event/seine-skiff-building-project/2026-04-22/
LOCATION:Gig Harbor BoatShop\, 3805 Harborview Dr\, Gig Harbor\, Washington\, 98332\, United States
END:VEVENT
BEGIN:VEVENT
DTSTART;TZID=America/Los_Angeles:20260429T080000
DTEND;TZID=America/Los_Angeles:20260429T170000
DTSTAMP:20260420T204613
CREATED:20250318T213457Z
LAST-MODIFIED:20250318T213459Z
UID:10001505-1777449600-1777482000@visitgigharbor.com
SUMMARY:Seine Skiff Building Project
DESCRIPTION:Be Part of Gig Harbor’s Maritime History! \n\n\n\nThe Gig Harbor BoatShop is hard at work crafting a Seine Skiff to accompany the historic purse seiner Veteran! Whether you want to lend a hand\, support the project with a donation\, or simply watch the boat take shape\, you’re invited to stop by and see the progress.
URL:https://visitgigharbor.com/event/seine-skiff-building-project/2026-04-29/
LOCATION:Gig Harbor BoatShop\, 3805 Harborview Dr\, Gig Harbor\, Washington\, 98332\, United States
END:VEVENT
BEGIN:VEVENT
DTSTART;TZID=America/Los_Angeles:20260506T080000
DTEND;TZID=America/Los_Angeles:20260506T170000
DTSTAMP:20260420T204613
CREATED:20250318T213457Z
LAST-MODIFIED:20250318T213459Z
UID:10001506-1778054400-1778086800@visitgigharbor.com
SUMMARY:Seine Skiff Building Project
DESCRIPTION:Be Part of Gig Harbor’s Maritime History! \n\n\n\nThe Gig Harbor BoatShop is hard at work crafting a Seine Skiff to accompany the historic purse seiner Veteran! Whether you want to lend a hand\, support the project with a donation\, or simply watch the boat take shape\, you’re invited to stop by and see the progress.
URL:https://visitgigharbor.com/event/seine-skiff-building-project/2026-05-06/
LOCATION:Gig Harbor BoatShop\, 3805 Harborview Dr\, Gig Harbor\, Washington\, 98332\, United States
END:VEVENT
BEGIN:VEVENT
DTSTART;TZID=America/Los_Angeles:20260513T080000
DTEND;TZID=America/Los_Angeles:20260513T170000
DTSTAMP:20260420T204613
CREATED:20250318T213457Z
LAST-MODIFIED:20250318T213459Z
UID:10001507-1778659200-1778691600@visitgigharbor.com
SUMMARY:Seine Skiff Building Project
DESCRIPTION:Be Part of Gig Harbor’s Maritime History! \n\n\n\nThe Gig Harbor BoatShop is hard at work crafting a Seine Skiff to accompany the historic purse seiner Veteran! Whether you want to lend a hand\, support the project with a donation\, or simply watch the boat take shape\, you’re invited to stop by and see the progress.
URL:https://visitgigharbor.com/event/seine-skiff-building-project/2026-05-13/
LOCATION:Gig Harbor BoatShop\, 3805 Harborview Dr\, Gig Harbor\, Washington\, 98332\, United States
END:VEVENT
BEGIN:VEVENT
DTSTART;TZID=America/Los_Angeles:20260520T080000
DTEND;TZID=America/Los_Angeles:20260520T170000
DTSTAMP:20260420T204613
CREATED:20250318T213457Z
LAST-MODIFIED:20250318T213459Z
UID:10001508-1779264000-1779296400@visitgigharbor.com
SUMMARY:Seine Skiff Building Project
DESCRIPTION:Be Part of Gig Harbor’s Maritime History! \n\n\n\nThe Gig Harbor BoatShop is hard at work crafting a Seine Skiff to accompany the historic purse seiner Veteran! Whether you want to lend a hand\, support the project with a donation\, or simply watch the boat take shape\, you’re invited to stop by and see the progress.
URL:https://visitgigharbor.com/event/seine-skiff-building-project/2026-05-20/
LOCATION:Gig Harbor BoatShop\, 3805 Harborview Dr\, Gig Harbor\, Washington\, 98332\, United States
END:VEVENT
BEGIN:VEVENT
DTSTART;TZID=America/Los_Angeles:20260527T080000
DTEND;TZID=America/Los_Angeles:20260527T170000
DTSTAMP:20260420T204613
CREATED:20250318T213457Z
LAST-MODIFIED:20250318T213459Z
UID:10001509-1779868800-1779901200@visitgigharbor.com
SUMMARY:Seine Skiff Building Project
DESCRIPTION:Be Part of Gig Harbor’s Maritime History! \n\n\n\nThe Gig Harbor BoatShop is hard at work crafting a Seine Skiff to accompany the historic purse seiner Veteran! Whether you want to lend a hand\, support the project with a donation\, or simply watch the boat take shape\, you’re invited to stop by and see the progress.
URL:https://visitgigharbor.com/event/seine-skiff-building-project/2026-05-27/
LOCATION:Gig Harbor BoatShop\, 3805 Harborview Dr\, Gig Harbor\, Washington\, 98332\, United States
END:VEVENT
BEGIN:VEVENT
DTSTART;TZID=America/Los_Angeles:20260603T080000
DTEND;TZID=America/Los_Angeles:20260603T170000
DTSTAMP:20260420T204613
CREATED:20250318T213457Z
LAST-MODIFIED:20250318T213459Z
UID:10001510-1780473600-1780506000@visitgigharbor.com
SUMMARY:Seine Skiff Building Project
DESCRIPTION:Be Part of Gig Harbor’s Maritime History! \n\n\n\nThe Gig Harbor BoatShop is hard at work crafting a Seine Skiff to accompany the historic purse seiner Veteran! Whether you want to lend a hand\, support the project with a donation\, or simply watch the boat take shape\, you’re invited to stop by and see the progress.
URL:https://visitgigharbor.com/event/seine-skiff-building-project/2026-06-03/
LOCATION:Gig Harbor BoatShop\, 3805 Harborview Dr\, Gig Harbor\, Washington\, 98332\, United States
END:VEVENT
BEGIN:VEVENT
DTSTART;TZID=America/Los_Angeles:20260610T080000
DTEND;TZID=America/Los_Angeles:20260610T170000
DTSTAMP:20260420T204613
CREATED:20250318T213457Z
LAST-MODIFIED:20250318T213459Z
UID:10001511-1781078400-1781110800@visitgigharbor.com
SUMMARY:Seine Skiff Building Project
DESCRIPTION:Be Part of Gig Harbor’s Maritime History! \n\n\n\nThe Gig Harbor BoatShop is hard at work crafting a Seine Skiff to accompany the historic purse seiner Veteran! Whether you want to lend a hand\, support the project with a donation\, or simply watch the boat take shape\, you’re invited to stop by and see the progress.
URL:https://visitgigharbor.com/event/seine-skiff-building-project/2026-06-10/
LOCATION:Gig Harbor BoatShop\, 3805 Harborview Dr\, Gig Harbor\, Washington\, 98332\, United States
END:VEVENT
BEGIN:VEVENT
DTSTART;TZID=America/Los_Angeles:20260617T080000
DTEND;TZID=America/Los_Angeles:20260617T170000
DTSTAMP:20260420T204613
CREATED:20250318T213457Z
LAST-MODIFIED:20250318T213459Z
UID:10001512-1781683200-1781715600@visitgigharbor.com
SUMMARY:Seine Skiff Building Project
DESCRIPTION:Be Part of Gig Harbor’s Maritime History! \n\n\n\nThe Gig Harbor BoatShop is hard at work crafting a Seine Skiff to accompany the historic purse seiner Veteran! Whether you want to lend a hand\, support the project with a donation\, or simply watch the boat take shape\, you’re invited to stop by and see the progress.
URL:https://visitgigharbor.com/event/seine-skiff-building-project/2026-06-17/
LOCATION:Gig Harbor BoatShop\, 3805 Harborview Dr\, Gig Harbor\, Washington\, 98332\, United States
END:VEVENT
BEGIN:VEVENT
DTSTART;TZID=America/Los_Angeles:20260624T080000
DTEND;TZID=America/Los_Angeles:20260624T170000
DTSTAMP:20260420T204613
CREATED:20250318T213457Z
LAST-MODIFIED:20250318T213459Z
UID:10001513-1782288000-1782320400@visitgigharbor.com
SUMMARY:Seine Skiff Building Project
DESCRIPTION:Be Part of Gig Harbor’s Maritime History! \n\n\n\nThe Gig Harbor BoatShop is hard at work crafting a Seine Skiff to accompany the historic purse seiner Veteran! Whether you want to lend a hand\, support the project with a donation\, or simply watch the boat take shape\, you’re invited to stop by and see the progress.
URL:https://visitgigharbor.com/event/seine-skiff-building-project/2026-06-24/
LOCATION:Gig Harbor BoatShop\, 3805 Harborview Dr\, Gig Harbor\, Washington\, 98332\, United States
END:VEVENT
BEGIN:VEVENT
DTSTART;TZID=America/Los_Angeles:20260701T080000
DTEND;TZID=America/Los_Angeles:20260701T170000
DTSTAMP:20260420T204613
CREATED:20250318T213457Z
LAST-MODIFIED:20250318T213459Z
UID:10001514-1782892800-1782925200@visitgigharbor.com
SUMMARY:Seine Skiff Building Project
DESCRIPTION:Be Part of Gig Harbor’s Maritime History! \n\n\n\nThe Gig Harbor BoatShop is hard at work crafting a Seine Skiff to accompany the historic purse seiner Veteran! Whether you want to lend a hand\, support the project with a donation\, or simply watch the boat take shape\, you’re invited to stop by and see the progress.
URL:https://visitgigharbor.com/event/seine-skiff-building-project/2026-07-01/
LOCATION:Gig Harbor BoatShop\, 3805 Harborview Dr\, Gig Harbor\, Washington\, 98332\, United States
END:VEVENT
BEGIN:VEVENT
DTSTART;TZID=America/Los_Angeles:20260708T080000
DTEND;TZID=America/Los_Angeles:20260708T170000
DTSTAMP:20260420T204613
CREATED:20250318T213457Z
LAST-MODIFIED:20250318T213459Z
UID:10001515-1783497600-1783530000@visitgigharbor.com
SUMMARY:Seine Skiff Building Project
DESCRIPTION:Be Part of Gig Harbor’s Maritime History! \n\n\n\nThe Gig Harbor BoatShop is hard at work crafting a Seine Skiff to accompany the historic purse seiner Veteran! Whether you want to lend a hand\, support the project with a donation\, or simply watch the boat take shape\, you’re invited to stop by and see the progress.
URL:https://visitgigharbor.com/event/seine-skiff-building-project/2026-07-08/
LOCATION:Gig Harbor BoatShop\, 3805 Harborview Dr\, Gig Harbor\, Washington\, 98332\, United States
END:VEVENT
BEGIN:VEVENT
DTSTART;TZID=America/Los_Angeles:20260715T080000
DTEND;TZID=America/Los_Angeles:20260715T170000
DTSTAMP:20260420T204613
CREATED:20250318T213457Z
LAST-MODIFIED:20250318T213459Z
UID:10001516-1784102400-1784134800@visitgigharbor.com
SUMMARY:Seine Skiff Building Project
DESCRIPTION:Be Part of Gig Harbor’s Maritime History! \n\n\n\nThe Gig Harbor BoatShop is hard at work crafting a Seine Skiff to accompany the historic purse seiner Veteran! Whether you want to lend a hand\, support the project with a donation\, or simply watch the boat take shape\, you’re invited to stop by and see the progress.
URL:https://visitgigharbor.com/event/seine-skiff-building-project/2026-07-15/
LOCATION:Gig Harbor BoatShop\, 3805 Harborview Dr\, Gig Harbor\, Washington\, 98332\, United States
END:VEVENT
BEGIN:VEVENT
DTSTART;TZID=America/Los_Angeles:20260722T080000
DTEND;TZID=America/Los_Angeles:20260722T170000
DTSTAMP:20260420T204613
CREATED:20250318T213457Z
LAST-MODIFIED:20250318T213459Z
UID:10001517-1784707200-1784739600@visitgigharbor.com
SUMMARY:Seine Skiff Building Project
DESCRIPTION:Be Part of Gig Harbor’s Maritime History! \n\n\n\nThe Gig Harbor BoatShop is hard at work crafting a Seine Skiff to accompany the historic purse seiner Veteran! Whether you want to lend a hand\, support the project with a donation\, or simply watch the boat take shape\, you’re invited to stop by and see the progress.
URL:https://visitgigharbor.com/event/seine-skiff-building-project/2026-07-22/
LOCATION:Gig Harbor BoatShop\, 3805 Harborview Dr\, Gig Harbor\, Washington\, 98332\, United States
END:VEVENT
BEGIN:VEVENT
DTSTART;TZID=America/Los_Angeles:20260729T080000
DTEND;TZID=America/Los_Angeles:20260729T170000
DTSTAMP:20260420T204613
CREATED:20250318T213457Z
LAST-MODIFIED:20250318T213459Z
UID:10001518-1785312000-1785344400@visitgigharbor.com
SUMMARY:Seine Skiff Building Project
DESCRIPTION:Be Part of Gig Harbor’s Maritime History! \n\n\n\nThe Gig Harbor BoatShop is hard at work crafting a Seine Skiff to accompany the historic purse seiner Veteran! Whether you want to lend a hand\, support the project with a donation\, or simply watch the boat take shape\, you’re invited to stop by and see the progress.
URL:https://visitgigharbor.com/event/seine-skiff-building-project/2026-07-29/
LOCATION:Gig Harbor BoatShop\, 3805 Harborview Dr\, Gig Harbor\, Washington\, 98332\, United States
END:VEVENT
BEGIN:VEVENT
DTSTART;TZID=America/Los_Angeles:20260805T080000
DTEND;TZID=America/Los_Angeles:20260805T170000
DTSTAMP:20260420T204613
CREATED:20250318T213457Z
LAST-MODIFIED:20250318T213459Z
UID:10001519-1785916800-1785949200@visitgigharbor.com
SUMMARY:Seine Skiff Building Project
DESCRIPTION:Be Part of Gig Harbor’s Maritime History! \n\n\n\nThe Gig Harbor BoatShop is hard at work crafting a Seine Skiff to accompany the historic purse seiner Veteran! Whether you want to lend a hand\, support the project with a donation\, or simply watch the boat take shape\, you’re invited to stop by and see the progress.
URL:https://visitgigharbor.com/event/seine-skiff-building-project/2026-08-05/
LOCATION:Gig Harbor BoatShop\, 3805 Harborview Dr\, Gig Harbor\, Washington\, 98332\, United States
END:VEVENT
BEGIN:VEVENT
DTSTART;TZID=America/Los_Angeles:20260812T080000
DTEND;TZID=America/Los_Angeles:20260812T170000
DTSTAMP:20260420T204613
CREATED:20250318T213457Z
LAST-MODIFIED:20250318T213459Z
UID:10001520-1786521600-1786554000@visitgigharbor.com
SUMMARY:Seine Skiff Building Project
DESCRIPTION:Be Part of Gig Harbor’s Maritime History! \n\n\n\nThe Gig Harbor BoatShop is hard at work crafting a Seine Skiff to accompany the historic purse seiner Veteran! Whether you want to lend a hand\, support the project with a donation\, or simply watch the boat take shape\, you’re invited to stop by and see the progress.
URL:https://visitgigharbor.com/event/seine-skiff-building-project/2026-08-12/
LOCATION:Gig Harbor BoatShop\, 3805 Harborview Dr\, Gig Harbor\, Washington\, 98332\, United States
END:VEVENT
BEGIN:VEVENT
DTSTART;TZID=America/Los_Angeles:20260819T080000
DTEND;TZID=America/Los_Angeles:20260819T170000
DTSTAMP:20260420T204613
CREATED:20250318T213457Z
LAST-MODIFIED:20250318T213459Z
UID:10001521-1787126400-1787158800@visitgigharbor.com
SUMMARY:Seine Skiff Building Project
DESCRIPTION:Be Part of Gig Harbor’s Maritime History! \n\n\n\nThe Gig Harbor BoatShop is hard at work crafting a Seine Skiff to accompany the historic purse seiner Veteran! Whether you want to lend a hand\, support the project with a donation\, or simply watch the boat take shape\, you’re invited to stop by and see the progress.
URL:https://visitgigharbor.com/event/seine-skiff-building-project/2026-08-19/
LOCATION:Gig Harbor BoatShop\, 3805 Harborview Dr\, Gig Harbor\, Washington\, 98332\, United States
END:VEVENT
BEGIN:VEVENT
DTSTART;TZID=America/Los_Angeles:20260826T080000
DTEND;TZID=America/Los_Angeles:20260826T170000
DTSTAMP:20260420T204613
CREATED:20250318T213457Z
LAST-MODIFIED:20250318T213459Z
UID:10001522-1787731200-1787763600@visitgigharbor.com
SUMMARY:Seine Skiff Building Project
DESCRIPTION:Be Part of Gig Harbor’s Maritime History! \n\n\n\nThe Gig Harbor BoatShop is hard at work crafting a Seine Skiff to accompany the historic purse seiner Veteran! Whether you want to lend a hand\, support the project with a donation\, or simply watch the boat take shape\, you’re invited to stop by and see the progress.
URL:https://visitgigharbor.com/event/seine-skiff-building-project/2026-08-26/
LOCATION:Gig Harbor BoatShop\, 3805 Harborview Dr\, Gig Harbor\, Washington\, 98332\, United States
END:VEVENT
BEGIN:VEVENT
DTSTART;TZID=America/Los_Angeles:20260902T080000
DTEND;TZID=America/Los_Angeles:20260902T170000
DTSTAMP:20260420T204613
CREATED:20250318T213457Z
LAST-MODIFIED:20250318T213459Z
UID:10001523-1788336000-1788368400@visitgigharbor.com
SUMMARY:Seine Skiff Building Project
DESCRIPTION:Be Part of Gig Harbor’s Maritime History! \n\n\n\nThe Gig Harbor BoatShop is hard at work crafting a Seine Skiff to accompany the historic purse seiner Veteran! Whether you want to lend a hand\, support the project with a donation\, or simply watch the boat take shape\, you’re invited to stop by and see the progress.
URL:https://visitgigharbor.com/event/seine-skiff-building-project/2026-09-02/
LOCATION:Gig Harbor BoatShop\, 3805 Harborview Dr\, Gig Harbor\, Washington\, 98332\, United States
END:VEVENT
BEGIN:VEVENT
DTSTART;TZID=America/Los_Angeles:20260909T080000
DTEND;TZID=America/Los_Angeles:20260909T170000
DTSTAMP:20260420T204613
CREATED:20250318T213457Z
LAST-MODIFIED:20250318T213459Z
UID:10001524-1788940800-1788973200@visitgigharbor.com
SUMMARY:Seine Skiff Building Project
DESCRIPTION:Be Part of Gig Harbor’s Maritime History! \n\n\n\nThe Gig Harbor BoatShop is hard at work crafting a Seine Skiff to accompany the historic purse seiner Veteran! Whether you want to lend a hand\, support the project with a donation\, or simply watch the boat take shape\, you’re invited to stop by and see the progress.
URL:https://visitgigharbor.com/event/seine-skiff-building-project/2026-09-09/
LOCATION:Gig Harbor BoatShop\, 3805 Harborview Dr\, Gig Harbor\, Washington\, 98332\, United States
END:VEVENT
BEGIN:VEVENT
DTSTART;TZID=America/Los_Angeles:20260916T080000
DTEND;TZID=America/Los_Angeles:20260916T170000
DTSTAMP:20260420T204613
CREATED:20250318T213457Z
LAST-MODIFIED:20250318T213459Z
UID:10001525-1789545600-1789578000@visitgigharbor.com
SUMMARY:Seine Skiff Building Project
DESCRIPTION:Be Part of Gig Harbor’s Maritime History! \n\n\n\nThe Gig Harbor BoatShop is hard at work crafting a Seine Skiff to accompany the historic purse seiner Veteran! Whether you want to lend a hand\, support the project with a donation\, or simply watch the boat take shape\, you’re invited to stop by and see the progress.
URL:https://visitgigharbor.com/event/seine-skiff-building-project/2026-09-16/
LOCATION:Gig Harbor BoatShop\, 3805 Harborview Dr\, Gig Harbor\, Washington\, 98332\, United States
END:VEVENT
BEGIN:VEVENT
DTSTART;TZID=America/Los_Angeles:20260923T080000
DTEND;TZID=America/Los_Angeles:20260923T170000
DTSTAMP:20260420T204613
CREATED:20250318T213457Z
LAST-MODIFIED:20250318T213459Z
UID:10001526-1790150400-1790182800@visitgigharbor.com
SUMMARY:Seine Skiff Building Project
DESCRIPTION:Be Part of Gig Harbor’s Maritime History! \n\n\n\nThe Gig Harbor BoatShop is hard at work crafting a Seine Skiff to accompany the historic purse seiner Veteran! Whether you want to lend a hand\, support the project with a donation\, or simply watch the boat take shape\, you’re invited to stop by and see the progress.
URL:https://visitgigharbor.com/event/seine-skiff-building-project/2026-09-23/
LOCATION:Gig Harbor BoatShop\, 3805 Harborview Dr\, Gig Harbor\, Washington\, 98332\, United States
END:VEVENT
BEGIN:VEVENT
DTSTART;TZID=America/Los_Angeles:20260930T080000
DTEND;TZID=America/Los_Angeles:20260930T170000
DTSTAMP:20260420T204613
CREATED:20250318T213457Z
LAST-MODIFIED:20250318T213459Z
UID:10001527-1790755200-1790787600@visitgigharbor.com
SUMMARY:Seine Skiff Building Project
DESCRIPTION:Be Part of Gig Harbor’s Maritime History! \n\n\n\nThe Gig Harbor BoatShop is hard at work crafting a Seine Skiff to accompany the historic purse seiner Veteran! Whether you want to lend a hand\, support the project with a donation\, or simply watch the boat take shape\, you’re invited to stop by and see the progress.
URL:https://visitgigharbor.com/event/seine-skiff-building-project/2026-09-30/
LOCATION:Gig Harbor BoatShop\, 3805 Harborview Dr\, Gig Harbor\, Washington\, 98332\, United States
END:VEVENT
BEGIN:VEVENT
DTSTART;TZID=America/Los_Angeles:20261007T080000
DTEND;TZID=America/Los_Angeles:20261007T170000
DTSTAMP:20260420T204613
CREATED:20250318T213457Z
LAST-MODIFIED:20250318T213459Z
UID:10001528-1791360000-1791392400@visitgigharbor.com
SUMMARY:Seine Skiff Building Project
DESCRIPTION:Be Part of Gig Harbor’s Maritime History! \n\n\n\nThe Gig Harbor BoatShop is hard at work crafting a Seine Skiff to accompany the historic purse seiner Veteran! Whether you want to lend a hand\, support the project with a donation\, or simply watch the boat take shape\, you’re invited to stop by and see the progress.
URL:https://visitgigharbor.com/event/seine-skiff-building-project/2026-10-07/
LOCATION:Gig Harbor BoatShop\, 3805 Harborview Dr\, Gig Harbor\, Washington\, 98332\, United States
END:VEVENT
BEGIN:VEVENT
DTSTART;TZID=America/Los_Angeles:20261014T080000
DTEND;TZID=America/Los_Angeles:20261014T170000
DTSTAMP:20260420T204613
CREATED:20250318T213457Z
LAST-MODIFIED:20250318T213459Z
UID:10001529-1791964800-1791997200@visitgigharbor.com
SUMMARY:Seine Skiff Building Project
DESCRIPTION:Be Part of Gig Harbor’s Maritime History! \n\n\n\nThe Gig Harbor BoatShop is hard at work crafting a Seine Skiff to accompany the historic purse seiner Veteran! Whether you want to lend a hand\, support the project with a donation\, or simply watch the boat take shape\, you’re invited to stop by and see the progress.
URL:https://visitgigharbor.com/event/seine-skiff-building-project/2026-10-14/
LOCATION:Gig Harbor BoatShop\, 3805 Harborview Dr\, Gig Harbor\, Washington\, 98332\, United States
END:VEVENT
BEGIN:VEVENT
DTSTART;TZID=America/Los_Angeles:20261021T080000
DTEND;TZID=America/Los_Angeles:20261021T170000
DTSTAMP:20260420T204613
CREATED:20250318T213457Z
LAST-MODIFIED:20250318T213459Z
UID:10001530-1792569600-1792602000@visitgigharbor.com
SUMMARY:Seine Skiff Building Project
DESCRIPTION:Be Part of Gig Harbor’s Maritime History! \n\n\n\nThe Gig Harbor BoatShop is hard at work crafting a Seine Skiff to accompany the historic purse seiner Veteran! Whether you want to lend a hand\, support the project with a donation\, or simply watch the boat take shape\, you’re invited to stop by and see the progress.
URL:https://visitgigharbor.com/event/seine-skiff-building-project/2026-10-21/
LOCATION:Gig Harbor BoatShop\, 3805 Harborview Dr\, Gig Harbor\, Washington\, 98332\, United States
END:VEVENT
BEGIN:VEVENT
DTSTART;TZID=America/Los_Angeles:20261028T080000
DTEND;TZID=America/Los_Angeles:20261028T170000
DTSTAMP:20260420T204613
CREATED:20250318T213457Z
LAST-MODIFIED:20250318T213459Z
UID:10001531-1793174400-1793206800@visitgigharbor.com
SUMMARY:Seine Skiff Building Project
DESCRIPTION:Be Part of Gig Harbor’s Maritime History! \n\n\n\nThe Gig Harbor BoatShop is hard at work crafting a Seine Skiff to accompany the historic purse seiner Veteran! Whether you want to lend a hand\, support the project with a donation\, or simply watch the boat take shape\, you’re invited to stop by and see the progress.
URL:https://visitgigharbor.com/event/seine-skiff-building-project/2026-10-28/
LOCATION:Gig Harbor BoatShop\, 3805 Harborview Dr\, Gig Harbor\, Washington\, 98332\, United States
END:VEVENT
BEGIN:VEVENT
DTSTART;TZID=America/Los_Angeles:20261104T080000
DTEND;TZID=America/Los_Angeles:20261104T170000
DTSTAMP:20260420T204613
CREATED:20250318T213457Z
LAST-MODIFIED:20250318T213459Z
UID:10001532-1793779200-1793811600@visitgigharbor.com
SUMMARY:Seine Skiff Building Project
DESCRIPTION:Be Part of Gig Harbor’s Maritime History! \n\n\n\nThe Gig Harbor BoatShop is hard at work crafting a Seine Skiff to accompany the historic purse seiner Veteran! Whether you want to lend a hand\, support the project with a donation\, or simply watch the boat take shape\, you’re invited to stop by and see the progress.
URL:https://visitgigharbor.com/event/seine-skiff-building-project/2026-11-04/
LOCATION:Gig Harbor BoatShop\, 3805 Harborview Dr\, Gig Harbor\, Washington\, 98332\, United States
END:VEVENT
BEGIN:VEVENT
DTSTART;TZID=America/Los_Angeles:20261111T080000
DTEND;TZID=America/Los_Angeles:20261111T170000
DTSTAMP:20260420T204613
CREATED:20250318T213457Z
LAST-MODIFIED:20250318T213459Z
UID:10001533-1794384000-1794416400@visitgigharbor.com
SUMMARY:Seine Skiff Building Project
DESCRIPTION:Be Part of Gig Harbor’s Maritime History! \n\n\n\nThe Gig Harbor BoatShop is hard at work crafting a Seine Skiff to accompany the historic purse seiner Veteran! Whether you want to lend a hand\, support the project with a donation\, or simply watch the boat take shape\, you’re invited to stop by and see the progress.
URL:https://visitgigharbor.com/event/seine-skiff-building-project/2026-11-11/
LOCATION:Gig Harbor BoatShop\, 3805 Harborview Dr\, Gig Harbor\, Washington\, 98332\, United States
END:VEVENT
END:VCALENDAR