BEGIN:VCALENDAR
VERSION:2.0
PRODID:-//Visit Gig Harbor, Washington - ECPv6.15.20//NONSGML v1.0//EN
CALSCALE:GREGORIAN
METHOD:PUBLISH
X-ORIGINAL-URL:https://visitgigharbor.com
X-WR-CALDESC:Events for Visit Gig Harbor, Washington
REFRESH-INTERVAL;VALUE=DURATION:PT1H
X-Robots-Tag:noindex
X-PUBLISHED-TTL:PT1H
BEGIN:VTIMEZONE
TZID:America/Los_Angeles
BEGIN:DAYLIGHT
TZOFFSETFROM:-0800
TZOFFSETTO:-0700
TZNAME:PDT
DTSTART:20250309T100000
END:DAYLIGHT
BEGIN:STANDARD
TZOFFSETFROM:-0700
TZOFFSETTO:-0800
TZNAME:PST
DTSTART:20251102T090000
END:STANDARD
BEGIN:DAYLIGHT
TZOFFSETFROM:-0800
TZOFFSETTO:-0700
TZNAME:PDT
DTSTART:20260308T100000
END:DAYLIGHT
BEGIN:STANDARD
TZOFFSETFROM:-0700
TZOFFSETTO:-0800
TZNAME:PST
DTSTART:20261101T090000
END:STANDARD
BEGIN:DAYLIGHT
TZOFFSETFROM:-0800
TZOFFSETTO:-0700
TZNAME:PDT
DTSTART:20270314T100000
END:DAYLIGHT
BEGIN:STANDARD
TZOFFSETFROM:-0700
TZOFFSETTO:-0800
TZNAME:PST
DTSTART:20271107T090000
END:STANDARD
END:VTIMEZONE
BEGIN:VEVENT
DTSTART;TZID=America/Los_Angeles:20260523T173000
DTEND;TZID=America/Los_Angeles:20260523T200000
DTSTAMP:20260422T055247
CREATED:20260417T213510Z
LAST-MODIFIED:20260417T224412Z
UID:10005891-1779557400-1779566400@visitgigharbor.com
SUMMARY:Feast and Honor
DESCRIPTION:Join Mvinyo Winery and Nelly’s African Kitchen for a Memorial Day Feast honoring our Veteran Heroes!! Truly a night to remember with an extraordinary 5-Course African Food and Wine Pairing! \n\n\n\nBEST YET\, A PORTION OF EACH TICKET SALE WILL BE DONATED TO WOUNDED WARRIOR PROJECT
URL:https://visitgigharbor.com/event/african-food-wine-pairing-gig-harbor/
LOCATION:Gig Harbor Yacht Club\, 8209 Stinson Ave\, Gig Harbor
ATTACH;FMTTYPE=image/jpeg:https://visitgigharbor.com/wp-content/uploads/2026/04/final_square_adjusted.jpg
END:VEVENT
END:VCALENDAR