BEGIN:VCALENDAR
VERSION:2.0
PRODID:-//Visit Gig Harbor, Washington - ECPv6.15.20//NONSGML v1.0//EN
CALSCALE:GREGORIAN
METHOD:PUBLISH
X-ORIGINAL-URL:https://visitgigharbor.com
X-WR-CALDESC:Events for Visit Gig Harbor, Washington
REFRESH-INTERVAL;VALUE=DURATION:PT1H
X-Robots-Tag:noindex
X-PUBLISHED-TTL:PT1H
BEGIN:VTIMEZONE
TZID:America/Los_Angeles
BEGIN:DAYLIGHT
TZOFFSETFROM:-0800
TZOFFSETTO:-0700
TZNAME:PDT
DTSTART:20250309T100000
END:DAYLIGHT
BEGIN:STANDARD
TZOFFSETFROM:-0700
TZOFFSETTO:-0800
TZNAME:PST
DTSTART:20251102T090000
END:STANDARD
BEGIN:DAYLIGHT
TZOFFSETFROM:-0800
TZOFFSETTO:-0700
TZNAME:PDT
DTSTART:20260308T100000
END:DAYLIGHT
BEGIN:STANDARD
TZOFFSETFROM:-0700
TZOFFSETTO:-0800
TZNAME:PST
DTSTART:20261101T090000
END:STANDARD
BEGIN:DAYLIGHT
TZOFFSETFROM:-0800
TZOFFSETTO:-0700
TZNAME:PDT
DTSTART:20270314T100000
END:DAYLIGHT
BEGIN:STANDARD
TZOFFSETFROM:-0700
TZOFFSETTO:-0800
TZNAME:PST
DTSTART:20271107T090000
END:STANDARD
END:VTIMEZONE
BEGIN:VEVENT
DTSTART;TZID=America/Los_Angeles:20260606T090000
DTEND;TZID=America/Los_Angeles:20260607T170000
DTSTAMP:20260420T172828
CREATED:20250204T220257Z
LAST-MODIFIED:20260211T202110Z
UID:10001362-1780736400-1780851600@visitgigharbor.com
SUMMARY:Maritime Gig Festival
DESCRIPTION:The Maritime Gig Festival is the Summer’s biggest event in Gig Harbor! Please join us June 6 & 7\, 2026 to celebrate our beautiful city with a weekend of fun and festivities. 
URL:https://visitgigharbor.com/event/maritime-gig-festival-2/
LOCATION:Downtown Waterfront\, Gig Harbor\, WA\, 98335\, United States
ORGANIZER;CN="Gig Harbor Chamber of Commerce":MAILTO:info@gigharborchamber.com
END:VEVENT
END:VCALENDAR