BEGIN:VCALENDAR
VERSION:2.0
PRODID:-//Visit Gig Harbor, Washington - ECPv6.15.20//NONSGML v1.0//EN
CALSCALE:GREGORIAN
METHOD:PUBLISH
X-ORIGINAL-URL:https://visitgigharbor.com
X-WR-CALDESC:Events for Visit Gig Harbor, Washington
REFRESH-INTERVAL;VALUE=DURATION:PT1H
X-Robots-Tag:noindex
X-PUBLISHED-TTL:PT1H
BEGIN:VTIMEZONE
TZID:America/Los_Angeles
BEGIN:DAYLIGHT
TZOFFSETFROM:-0800
TZOFFSETTO:-0700
TZNAME:PDT
DTSTART:20240310T100000
END:DAYLIGHT
BEGIN:STANDARD
TZOFFSETFROM:-0700
TZOFFSETTO:-0800
TZNAME:PST
DTSTART:20241103T090000
END:STANDARD
BEGIN:DAYLIGHT
TZOFFSETFROM:-0800
TZOFFSETTO:-0700
TZNAME:PDT
DTSTART:20250309T100000
END:DAYLIGHT
BEGIN:STANDARD
TZOFFSETFROM:-0700
TZOFFSETTO:-0800
TZNAME:PST
DTSTART:20251102T090000
END:STANDARD
BEGIN:DAYLIGHT
TZOFFSETFROM:-0800
TZOFFSETTO:-0700
TZNAME:PDT
DTSTART:20260308T100000
END:DAYLIGHT
BEGIN:STANDARD
TZOFFSETFROM:-0700
TZOFFSETTO:-0800
TZNAME:PST
DTSTART:20261101T090000
END:STANDARD
END:VTIMEZONE
BEGIN:VEVENT
DTSTART;TZID=America/Los_Angeles:20250510T100000
DTEND;TZID=America/Los_Angeles:20250510T150000
DTSTAMP:20260420T154206
CREATED:20250510T173324Z
LAST-MODIFIED:20250510T173326Z
UID:10005786-1746871200-1746889200@visitgigharbor.com
SUMMARY:Local Makers Spring Market & Festival
DESCRIPTION:We’re delighted to be bringing back the Local Makers Spring Market & Festival for a third year!  With more than 100 Local Artisan Makers (including Mini Makers\, our creative youth entrepreneurs)\, aerial artists flying high and student performances\, your favorite local musicians and bands\, engaging Kids Zone\, interactive art\, and MUCH more…
URL:https://visitgigharbor.com/event/local-makers-spring-market-festival-2/
LOCATION:Gig Harbor Civic Center\, 3510 Grandview St\, Gig Harbor\, WA\, 98335\, United States
ORGANIZER;CN="Local Makers":MAILTO:hello@localmakersgigharbor.com
END:VEVENT
END:VCALENDAR