BEGIN:VCALENDAR
VERSION:2.0
PRODID:-//Visit Gig Harbor, Washington - ECPv6.15.20//NONSGML v1.0//EN
CALSCALE:GREGORIAN
METHOD:PUBLISH
X-WR-CALNAME:Visit Gig Harbor, Washington
X-ORIGINAL-URL:https://visitgigharbor.com
X-WR-CALDESC:Events for Visit Gig Harbor, Washington
REFRESH-INTERVAL;VALUE=DURATION:PT1H
X-Robots-Tag:noindex
X-PUBLISHED-TTL:PT1H
BEGIN:VTIMEZONE
TZID:America/Los_Angeles
BEGIN:DAYLIGHT
TZOFFSETFROM:-0800
TZOFFSETTO:-0700
TZNAME:PDT
DTSTART:20250309T100000
END:DAYLIGHT
BEGIN:STANDARD
TZOFFSETFROM:-0700
TZOFFSETTO:-0800
TZNAME:PST
DTSTART:20251102T090000
END:STANDARD
BEGIN:DAYLIGHT
TZOFFSETFROM:-0800
TZOFFSETTO:-0700
TZNAME:PDT
DTSTART:20260308T100000
END:DAYLIGHT
BEGIN:STANDARD
TZOFFSETFROM:-0700
TZOFFSETTO:-0800
TZNAME:PST
DTSTART:20261101T090000
END:STANDARD
BEGIN:DAYLIGHT
TZOFFSETFROM:-0800
TZOFFSETTO:-0700
TZNAME:PDT
DTSTART:20270314T100000
END:DAYLIGHT
BEGIN:STANDARD
TZOFFSETFROM:-0700
TZOFFSETTO:-0800
TZNAME:PST
DTSTART:20271107T090000
END:STANDARD
END:VTIMEZONE
BEGIN:VEVENT
DTSTART;TZID=America/Los_Angeles:20260411T100000
DTEND;TZID=America/Los_Angeles:20260411T110000
DTSTAMP:20260422T073028
CREATED:20260207T203230Z
LAST-MODIFIED:20260207T204200Z
UID:10005858-1775901600-1775905200@visitgigharbor.com
SUMMARY:Plant Swap - Uptown Gig Harbor
DESCRIPTION:A community-driven event that involves gardeners from all skill levels to share their love for gardening. This swap includes sharing of plants\, plantlets\, seeds\, tools\, materials\, and even advice! \n\n\n\nMeet in the south parking lot of HomeGoods! See you there!
URL:https://visitgigharbor.com/event/uptown-gig-harbor-plant-swap/
LOCATION:Gig Harbor Uptown\, 4545 Point Fosdick Dr\, Gig Harbor\, WA\, 98335\, United States
END:VEVENT
BEGIN:VEVENT
DTSTART;TZID=America/Los_Angeles:20260328T100000
DTEND;TZID=America/Los_Angeles:20260328T110000
DTSTAMP:20260422T073028
CREATED:20260207T202516Z
LAST-MODIFIED:20260207T202518Z
UID:10005857-1774692000-1774695600@visitgigharbor.com
SUMMARY:Uptown Gig Harbor - Easter Egg Hunt
DESCRIPTION:Hop on over for a fun-filled Easter celebration! Bring your little bunnies and their baskets for an egg-citing Easter Egg Hunt\, where they’ll search for colorful eggs filled with sweet surprises. Enjoy a beautiful Saturday morning with our annual Easter Egg Hunt in Uptown Gig Harbor\, with fun for the whole family!
URL:https://visitgigharbor.com/event/uptown-gig-harbor-easter-egg-hunt/
LOCATION:Gig Harbor Uptown\, 4545 Point Fosdick Dr\, Gig Harbor\, WA\, 98335\, United States
END:VEVENT
END:VCALENDAR