BEGIN:VCALENDAR
VERSION:2.0
PRODID:-//Visit Gig Harbor, Washington - ECPv6.15.20//NONSGML v1.0//EN
CALSCALE:GREGORIAN
METHOD:PUBLISH
X-WR-CALNAME:Visit Gig Harbor, Washington
X-ORIGINAL-URL:https://visitgigharbor.com
X-WR-CALDESC:Events for Visit Gig Harbor, Washington
REFRESH-INTERVAL;VALUE=DURATION:PT1H
X-Robots-Tag:noindex
X-PUBLISHED-TTL:PT1H
BEGIN:VTIMEZONE
TZID:America/Los_Angeles
BEGIN:DAYLIGHT
TZOFFSETFROM:-0800
TZOFFSETTO:-0700
TZNAME:PDT
DTSTART:20240310T100000
END:DAYLIGHT
BEGIN:STANDARD
TZOFFSETFROM:-0700
TZOFFSETTO:-0800
TZNAME:PST
DTSTART:20241103T090000
END:STANDARD
BEGIN:DAYLIGHT
TZOFFSETFROM:-0800
TZOFFSETTO:-0700
TZNAME:PDT
DTSTART:20250309T100000
END:DAYLIGHT
BEGIN:STANDARD
TZOFFSETFROM:-0700
TZOFFSETTO:-0800
TZNAME:PST
DTSTART:20251102T090000
END:STANDARD
BEGIN:DAYLIGHT
TZOFFSETFROM:-0800
TZOFFSETTO:-0700
TZNAME:PDT
DTSTART:20260308T100000
END:DAYLIGHT
BEGIN:STANDARD
TZOFFSETFROM:-0700
TZOFFSETTO:-0800
TZNAME:PST
DTSTART:20261101T090000
END:STANDARD
END:VTIMEZONE
BEGIN:VEVENT
DTSTART;TZID=America/Los_Angeles:20250614T000000
DTEND;TZID=America/Los_Angeles:20250614T235959
DTSTAMP:20260423T081751
CREATED:20250323T203442Z
LAST-MODIFIED:20250323T215720Z
UID:10005019-1749859200-1749945599@visitgigharbor.com
SUMMARY:Gig Harbor Walking Tours: Wonders of the Waterfront - Seasonal | Saturdays\, June - August @ 10am
DESCRIPTION:Wonders of the Waterfront is a weekly Saturday morning tour that explores the natural wonders of the waterfront. Lead by Harbor WildWatch guides\, the 1.5 mile walk begins at Donkey Creek Park and journeys to the Maritime Pier. This tour is uniquely focused on the incredible diversity of life and natural history of the Gig Harbor waterfront.
URL:https://visitgigharbor.com/event/gig-harbor-walking-tours-wonders-of-the-waterfront-seasonal-saturdays-june-august-10am/2025-06-14/
LOCATION:Gig Harbor Waterfront\, 3211 Harborview Dr\, Gig Harbor\, WA\, 98335\, United States
ORGANIZER;CN="Gig Harbor Waterfront Alliance":MAILTO:executivedirector@ghdwa.org
END:VEVENT
BEGIN:VEVENT
DTSTART;TZID=America/Los_Angeles:20250608T090000
DTEND;TZID=America/Los_Angeles:20250608T163000
DTSTAMP:20260423T081751
CREATED:20250427T200943Z
LAST-MODIFIED:20250427T200945Z
UID:10005527-1749373200-1749400200@visitgigharbor.com
SUMMARY:2025 Wheels on the Water Car Show
DESCRIPTION:We are excited to announce the return of our Wheels on the Water Car Show. Our shows are a fantastic display of both new and classic vehicles and will sell out again this year. 
URL:https://visitgigharbor.com/event/2025-wheels-on-the-water-car-show/
LOCATION:Gig Harbor Waterfront\, 3211 Harborview Dr\, Gig Harbor\, WA\, 98335\, United States
ORGANIZER;CN="Gig Harbor Chamber of Commerce":MAILTO:info@gigharborchamber.com
END:VEVENT
BEGIN:VEVENT
DTSTART;TZID=America/Los_Angeles:20250607T000000
DTEND;TZID=America/Los_Angeles:20250607T235959
DTSTAMP:20260423T081751
CREATED:20250323T203442Z
LAST-MODIFIED:20250323T215720Z
UID:10005018-1749254400-1749340799@visitgigharbor.com
SUMMARY:Gig Harbor Walking Tours: Wonders of the Waterfront - Seasonal | Saturdays\, June - August @ 10am
DESCRIPTION:Wonders of the Waterfront is a weekly Saturday morning tour that explores the natural wonders of the waterfront. Lead by Harbor WildWatch guides\, the 1.5 mile walk begins at Donkey Creek Park and journeys to the Maritime Pier. This tour is uniquely focused on the incredible diversity of life and natural history of the Gig Harbor waterfront.
URL:https://visitgigharbor.com/event/gig-harbor-walking-tours-wonders-of-the-waterfront-seasonal-saturdays-june-august-10am/2025-06-07/
LOCATION:Gig Harbor Waterfront\, 3211 Harborview Dr\, Gig Harbor\, WA\, 98335\, United States
ORGANIZER;CN="Gig Harbor Waterfront Alliance":MAILTO:executivedirector@ghdwa.org
END:VEVENT
END:VCALENDAR