BEGIN:VCALENDAR
VERSION:2.0
PRODID:-//Visit Gig Harbor, Washington - ECPv6.15.20//NONSGML v1.0//EN
CALSCALE:GREGORIAN
METHOD:PUBLISH
X-ORIGINAL-URL:https://visitgigharbor.com
X-WR-CALDESC:Events for Visit Gig Harbor, Washington
REFRESH-INTERVAL;VALUE=DURATION:PT1H
X-Robots-Tag:noindex
X-PUBLISHED-TTL:PT1H
BEGIN:VTIMEZONE
TZID:America/Los_Angeles
BEGIN:DAYLIGHT
TZOFFSETFROM:-0800
TZOFFSETTO:-0700
TZNAME:PDT
DTSTART:20240310T100000
END:DAYLIGHT
BEGIN:STANDARD
TZOFFSETFROM:-0700
TZOFFSETTO:-0800
TZNAME:PST
DTSTART:20241103T090000
END:STANDARD
BEGIN:DAYLIGHT
TZOFFSETFROM:-0800
TZOFFSETTO:-0700
TZNAME:PDT
DTSTART:20250309T100000
END:DAYLIGHT
BEGIN:STANDARD
TZOFFSETFROM:-0700
TZOFFSETTO:-0800
TZNAME:PST
DTSTART:20251102T090000
END:STANDARD
BEGIN:DAYLIGHT
TZOFFSETFROM:-0800
TZOFFSETTO:-0700
TZNAME:PDT
DTSTART:20260308T100000
END:DAYLIGHT
BEGIN:STANDARD
TZOFFSETFROM:-0700
TZOFFSETTO:-0800
TZNAME:PST
DTSTART:20261101T090000
END:STANDARD
END:VTIMEZONE
BEGIN:VEVENT
DTSTART;TZID=America/Los_Angeles:20251214T150000
DTEND;TZID=America/Los_Angeles:20251214T170000
DTSTAMP:20260420T104423
CREATED:20241223T230256Z
LAST-MODIFIED:20251205T203107Z
UID:10001286-1765724400-1765731600@visitgigharbor.com
SUMMARY:3rd Annual Menorah Lighting & Chanukah Village
DESCRIPTION:
URL:https://visitgigharbor.com/event/2nd-annual-menorah-lighting-chanukah-village/
LOCATION:Skansie Brothers Park\, 3211 Harborview Dr\, Gig Harbor\, WA\, 98335\, United States
END:VEVENT
BEGIN:VEVENT
DTSTART;TZID=America/Los_Angeles:20251206T163000
DTEND;TZID=America/Los_Angeles:20251206T183000
DTSTAMP:20260420T104423
CREATED:20251205T223048Z
LAST-MODIFIED:20251205T223050Z
UID:10005840-1765038600-1765045800@visitgigharbor.com
SUMMARY:COOKIES & COCOA  AT THE CITY TREE LIGHTING
DESCRIPTION:The annual city tree lighting will be a fun and festive holiday event again this year! With live music\, festivities and a special appearance from Santa himself. This is a Gig Harbor tradition you and your family won’t want to miss! Complimentary cookies & cocoa will be provided by the Gig Harbor Waterfront Alliance\, sponsored by Paige Schulte & Co | Neighborhood Experts – Real Estate.  \n\n\n\n​
URL:https://visitgigharbor.com/event/cookies-cocoa-at-the-city-tree-lighting/
LOCATION:Skansie Brothers Park\, 3211 Harborview Dr\, Gig Harbor\, WA\, 98335\, United States
END:VEVENT
BEGIN:VEVENT
DTSTART;TZID=America/Los_Angeles:20251206T163000
DTEND;TZID=America/Los_Angeles:20251206T183000
DTSTAMP:20260420T104423
CREATED:20251102T214659Z
LAST-MODIFIED:20251102T214921Z
UID:10000026-1765038600-1765045800@visitgigharbor.com
SUMMARY:Gig Harbor Tree Lighting
DESCRIPTION:The Gig Harbor Tree Lighting ceremony gathers the community to celebrate the start of the holiday season in a festive atmosphere. This event features the lighting of the Christmas tree\, live entertainment\, and activities for all ages\, making it a cherished tradition for local families and visitors. It’s an ideal way to kick off the holiday festivities in the heart of Gig Harbor.
URL:https://visitgigharbor.com/event/gig-harbor-tree-lighting/
LOCATION:Skansie Brothers Park\, 3211 Harborview Dr\, Gig Harbor\, WA\, 98335\, United States
CATEGORIES:Family Friendly,Free,Outdoor
ORGANIZER;CN="Visit Gig Harbor":MAILTO:marketing@visitgigharbor.com
END:VEVENT
BEGIN:VEVENT
DTSTART;TZID=America/Los_Angeles:20250826T180000
DTEND;TZID=America/Los_Angeles:20250826T200000
DTSTAMP:20260420T104423
CREATED:20250510T180339Z
LAST-MODIFIED:20250510T180422Z
UID:10005794-1756231200-1756238400@visitgigharbor.com
SUMMARY:Summer Sounds - The Infinity Project Concert
DESCRIPTION:Journey tribute band
URL:https://visitgigharbor.com/event/summer-sounds-the-infinity-project-concert/
LOCATION:Skansie Brothers Park\, 3211 Harborview Dr\, Gig Harbor\, WA\, 98335\, United States
ORGANIZER;CN="Visit Gig Harbor":MAILTO:marketing@visitgigharbor.com
END:VEVENT
BEGIN:VEVENT
DTSTART;TZID=America/Los_Angeles:20250826T180000
DTEND;TZID=America/Los_Angeles:20250826T200000
DTSTAMP:20260420T104423
CREATED:20250220T201213Z
LAST-MODIFIED:20250616T182944Z
UID:10001380-1756231200-1756238400@visitgigharbor.com
SUMMARY:2025 Summer Sounds at Skansie Park
DESCRIPTION:Get ready for a summer full of unforgettable music\, scenic waterfront views\, and good vibes at the 2025 Summer Sounds at Skansie Park. Presented by Visit Gig Harbor\, this beloved concert series returns every Tuesday from July 8 to August 26\, bringing the community together for free live music from 6 PM to 8 PM. \n\n\n\nSet against the stunning backdrop of Skansie Brothers Park and the picturesque Gig Harbor waterfront\, each evening promises great tunes\, friendly faces\, and perfect summer memories. Featuring a lineup of rock\, pop\, and high-energy performances\, there’s something for everyone to enjoy under the warm evening sky. \n\n\n\nThis incredible series wouldn’t be possible without the support of our sponsors: \n\n\n\n\nCity of Gig Harbor\n\n\n\nGig Harbor Chamber of Commerce\n\n\n\nVirginia Mason Franciscan Health\n\n\n\nLeMay – America’s Car Museum\n\n\n\n\nMark your calendars—see the full lineup . Bring your lawn chairs\, blankets\, and your best dancing shoes for a summer you won’t forget. \n\n\n\nInterested in becoming a sponsor? Opportunities are still available. Contact us to learn how you can be part of this cherished Gig Harbor tradition.
URL:https://visitgigharbor.com/event/summer-sounds/2025-08-26/
LOCATION:Skansie Brothers Park\, 3211 Harborview Dr\, Gig Harbor\, WA\, 98335\, United States
ATTACH;FMTTYPE=application/pdf:https://visitgigharbor.com/wp-content/uploads/2025/02/SummerSounds_socialgraphics3-3.pdf
ORGANIZER;CN="Visit Gig Harbor":MAILTO:marketing@visitgigharbor.com
END:VEVENT
BEGIN:VEVENT
DTSTART;TZID=America/Los_Angeles:20250821T130000
DTEND;TZID=America/Los_Angeles:20250821T180000
DTSTAMP:20260420T104423
CREATED:20250524T182845Z
LAST-MODIFIED:20250524T182847Z
UID:10005816-1755781200-1755799200@visitgigharbor.com
SUMMARY:Waterfront Farmers Market
DESCRIPTION:Every Thursday 1-6pm\, May 22nd – August 28th \n\n\n\nCelebrating 10 years in 2025!
URL:https://visitgigharbor.com/event/waterfront-farmers-market/2025-08-21/
LOCATION:Skansie Brothers Park\, 3211 Harborview Dr\, Gig Harbor\, WA\, 98335\, United States
ORGANIZER;CN="Gig Harbor Waterfront Alliance":MAILTO:executivedirector@ghdwa.org
END:VEVENT
BEGIN:VEVENT
DTSTART;TZID=America/Los_Angeles:20250819T180000
DTEND;TZID=America/Los_Angeles:20250819T200000
DTSTAMP:20260420T104423
CREATED:20250510T180013Z
LAST-MODIFIED:20250510T180014Z
UID:10005793-1755626400-1755633600@visitgigharbor.com
SUMMARY:Summer Sounds - 90s Rewind Concert
DESCRIPTION:
URL:https://visitgigharbor.com/event/summer-sounds-90s-rewind-concert/
LOCATION:Skansie Brothers Park\, 3211 Harborview Dr\, Gig Harbor\, WA\, 98335\, United States
ORGANIZER;CN="Visit Gig Harbor":MAILTO:marketing@visitgigharbor.com
END:VEVENT
BEGIN:VEVENT
DTSTART;TZID=America/Los_Angeles:20250819T180000
DTEND;TZID=America/Los_Angeles:20250819T200000
DTSTAMP:20260420T104423
CREATED:20250220T201213Z
LAST-MODIFIED:20250616T182944Z
UID:10001379-1755626400-1755633600@visitgigharbor.com
SUMMARY:2025 Summer Sounds at Skansie Park
DESCRIPTION:Get ready for a summer full of unforgettable music\, scenic waterfront views\, and good vibes at the 2025 Summer Sounds at Skansie Park. Presented by Visit Gig Harbor\, this beloved concert series returns every Tuesday from July 8 to August 26\, bringing the community together for free live music from 6 PM to 8 PM. \n\n\n\nSet against the stunning backdrop of Skansie Brothers Park and the picturesque Gig Harbor waterfront\, each evening promises great tunes\, friendly faces\, and perfect summer memories. Featuring a lineup of rock\, pop\, and high-energy performances\, there’s something for everyone to enjoy under the warm evening sky. \n\n\n\nThis incredible series wouldn’t be possible without the support of our sponsors: \n\n\n\n\nCity of Gig Harbor\n\n\n\nGig Harbor Chamber of Commerce\n\n\n\nVirginia Mason Franciscan Health\n\n\n\nLeMay – America’s Car Museum\n\n\n\n\nMark your calendars—see the full lineup . Bring your lawn chairs\, blankets\, and your best dancing shoes for a summer you won’t forget. \n\n\n\nInterested in becoming a sponsor? Opportunities are still available. Contact us to learn how you can be part of this cherished Gig Harbor tradition.
URL:https://visitgigharbor.com/event/summer-sounds/2025-08-19/
LOCATION:Skansie Brothers Park\, 3211 Harborview Dr\, Gig Harbor\, WA\, 98335\, United States
ATTACH;FMTTYPE=application/pdf:https://visitgigharbor.com/wp-content/uploads/2025/02/SummerSounds_socialgraphics3-3.pdf
ORGANIZER;CN="Visit Gig Harbor":MAILTO:marketing@visitgigharbor.com
END:VEVENT
BEGIN:VEVENT
DTSTART;TZID=America/Los_Angeles:20250814T130000
DTEND;TZID=America/Los_Angeles:20250814T180000
DTSTAMP:20260420T104423
CREATED:20250524T182845Z
LAST-MODIFIED:20250524T182847Z
UID:10005815-1755176400-1755194400@visitgigharbor.com
SUMMARY:Waterfront Farmers Market
DESCRIPTION:Every Thursday 1-6pm\, May 22nd – August 28th \n\n\n\nCelebrating 10 years in 2025!
URL:https://visitgigharbor.com/event/waterfront-farmers-market/2025-08-14/
LOCATION:Skansie Brothers Park\, 3211 Harborview Dr\, Gig Harbor\, WA\, 98335\, United States
ORGANIZER;CN="Gig Harbor Waterfront Alliance":MAILTO:executivedirector@ghdwa.org
END:VEVENT
BEGIN:VEVENT
DTSTART;TZID=America/Los_Angeles:20250812T180000
DTEND;TZID=America/Los_Angeles:20250812T200000
DTSTAMP:20260420T104423
CREATED:20250510T175833Z
LAST-MODIFIED:20250510T180524Z
UID:10005792-1755021600-1755028800@visitgigharbor.com
SUMMARY:Summer Sounds - Kalimba Concert
DESCRIPTION:The Spirit of Earth Wind and Fire 
URL:https://visitgigharbor.com/event/summer-sounds-kalimba-concert/
LOCATION:Skansie Brothers Park\, 3211 Harborview Dr\, Gig Harbor\, WA\, 98335\, United States
ORGANIZER;CN="Visit Gig Harbor":MAILTO:marketing@visitgigharbor.com
END:VEVENT
BEGIN:VEVENT
DTSTART;TZID=America/Los_Angeles:20250812T180000
DTEND;TZID=America/Los_Angeles:20250812T200000
DTSTAMP:20260420T104423
CREATED:20250220T201213Z
LAST-MODIFIED:20250616T182944Z
UID:10001378-1755021600-1755028800@visitgigharbor.com
SUMMARY:2025 Summer Sounds at Skansie Park
DESCRIPTION:Get ready for a summer full of unforgettable music\, scenic waterfront views\, and good vibes at the 2025 Summer Sounds at Skansie Park. Presented by Visit Gig Harbor\, this beloved concert series returns every Tuesday from July 8 to August 26\, bringing the community together for free live music from 6 PM to 8 PM. \n\n\n\nSet against the stunning backdrop of Skansie Brothers Park and the picturesque Gig Harbor waterfront\, each evening promises great tunes\, friendly faces\, and perfect summer memories. Featuring a lineup of rock\, pop\, and high-energy performances\, there’s something for everyone to enjoy under the warm evening sky. \n\n\n\nThis incredible series wouldn’t be possible without the support of our sponsors: \n\n\n\n\nCity of Gig Harbor\n\n\n\nGig Harbor Chamber of Commerce\n\n\n\nVirginia Mason Franciscan Health\n\n\n\nLeMay – America’s Car Museum\n\n\n\n\nMark your calendars—see the full lineup . Bring your lawn chairs\, blankets\, and your best dancing shoes for a summer you won’t forget. \n\n\n\nInterested in becoming a sponsor? Opportunities are still available. Contact us to learn how you can be part of this cherished Gig Harbor tradition.
URL:https://visitgigharbor.com/event/summer-sounds/2025-08-12/
LOCATION:Skansie Brothers Park\, 3211 Harborview Dr\, Gig Harbor\, WA\, 98335\, United States
ATTACH;FMTTYPE=application/pdf:https://visitgigharbor.com/wp-content/uploads/2025/02/SummerSounds_socialgraphics3-3.pdf
ORGANIZER;CN="Visit Gig Harbor":MAILTO:marketing@visitgigharbor.com
END:VEVENT
BEGIN:VEVENT
DTSTART;TZID=America/Los_Angeles:20250807T130000
DTEND;TZID=America/Los_Angeles:20250807T180000
DTSTAMP:20260420T104423
CREATED:20250524T182845Z
LAST-MODIFIED:20250524T182847Z
UID:10005814-1754571600-1754589600@visitgigharbor.com
SUMMARY:Waterfront Farmers Market
DESCRIPTION:Every Thursday 1-6pm\, May 22nd – August 28th \n\n\n\nCelebrating 10 years in 2025!
URL:https://visitgigharbor.com/event/waterfront-farmers-market/2025-08-07/
LOCATION:Skansie Brothers Park\, 3211 Harborview Dr\, Gig Harbor\, WA\, 98335\, United States
ORGANIZER;CN="Gig Harbor Waterfront Alliance":MAILTO:executivedirector@ghdwa.org
END:VEVENT
BEGIN:VEVENT
DTSTART;TZID=America/Los_Angeles:20250805T180000
DTEND;TZID=America/Los_Angeles:20250805T200000
DTSTAMP:20260420T104423
CREATED:20250510T175632Z
LAST-MODIFIED:20250510T175634Z
UID:10005791-1754416800-1754424000@visitgigharbor.com
SUMMARY:Summer Sounds - A Flock of 80s Concert
DESCRIPTION:
URL:https://visitgigharbor.com/event/summer-sounds-a-flock-of-80s-concert/
LOCATION:Skansie Brothers Park\, 3211 Harborview Dr\, Gig Harbor\, WA\, 98335\, United States
ORGANIZER;CN="Visit Gig Harbor":MAILTO:marketing@visitgigharbor.com
END:VEVENT
BEGIN:VEVENT
DTSTART;TZID=America/Los_Angeles:20250805T180000
DTEND;TZID=America/Los_Angeles:20250805T200000
DTSTAMP:20260420T104423
CREATED:20250220T201213Z
LAST-MODIFIED:20250616T182944Z
UID:10001377-1754416800-1754424000@visitgigharbor.com
SUMMARY:2025 Summer Sounds at Skansie Park
DESCRIPTION:Get ready for a summer full of unforgettable music\, scenic waterfront views\, and good vibes at the 2025 Summer Sounds at Skansie Park. Presented by Visit Gig Harbor\, this beloved concert series returns every Tuesday from July 8 to August 26\, bringing the community together for free live music from 6 PM to 8 PM. \n\n\n\nSet against the stunning backdrop of Skansie Brothers Park and the picturesque Gig Harbor waterfront\, each evening promises great tunes\, friendly faces\, and perfect summer memories. Featuring a lineup of rock\, pop\, and high-energy performances\, there’s something for everyone to enjoy under the warm evening sky. \n\n\n\nThis incredible series wouldn’t be possible without the support of our sponsors: \n\n\n\n\nCity of Gig Harbor\n\n\n\nGig Harbor Chamber of Commerce\n\n\n\nVirginia Mason Franciscan Health\n\n\n\nLeMay – America’s Car Museum\n\n\n\n\nMark your calendars—see the full lineup . Bring your lawn chairs\, blankets\, and your best dancing shoes for a summer you won’t forget. \n\n\n\nInterested in becoming a sponsor? Opportunities are still available. Contact us to learn how you can be part of this cherished Gig Harbor tradition.
URL:https://visitgigharbor.com/event/summer-sounds/2025-08-05/
LOCATION:Skansie Brothers Park\, 3211 Harborview Dr\, Gig Harbor\, WA\, 98335\, United States
ATTACH;FMTTYPE=application/pdf:https://visitgigharbor.com/wp-content/uploads/2025/02/SummerSounds_socialgraphics3-3.pdf
ORGANIZER;CN="Visit Gig Harbor":MAILTO:marketing@visitgigharbor.com
END:VEVENT
BEGIN:VEVENT
DTSTART;TZID=America/Los_Angeles:20250731T130000
DTEND;TZID=America/Los_Angeles:20250731T180000
DTSTAMP:20260420T104423
CREATED:20250524T182845Z
LAST-MODIFIED:20250524T182847Z
UID:10005813-1753966800-1753984800@visitgigharbor.com
SUMMARY:Waterfront Farmers Market
DESCRIPTION:Every Thursday 1-6pm\, May 22nd – August 28th \n\n\n\nCelebrating 10 years in 2025!
URL:https://visitgigharbor.com/event/waterfront-farmers-market/2025-07-31/
LOCATION:Skansie Brothers Park\, 3211 Harborview Dr\, Gig Harbor\, WA\, 98335\, United States
ORGANIZER;CN="Gig Harbor Waterfront Alliance":MAILTO:executivedirector@ghdwa.org
END:VEVENT
BEGIN:VEVENT
DTSTART;TZID=America/Los_Angeles:20250729T180000
DTEND;TZID=America/Los_Angeles:20250729T200000
DTSTAMP:20260420T104423
CREATED:20250510T175059Z
LAST-MODIFIED:20250510T180711Z
UID:10005790-1753812000-1753819200@visitgigharbor.com
SUMMARY:Summer Sounds - Joel Gibson Concert
DESCRIPTION:Local country music artist
URL:https://visitgigharbor.com/event/summer-sounds-joel-gibson-concert/
LOCATION:Skansie Brothers Park\, 3211 Harborview Dr\, Gig Harbor\, WA\, 98335\, United States
ORGANIZER;CN="Visit Gig Harbor":MAILTO:marketing@visitgigharbor.com
END:VEVENT
BEGIN:VEVENT
DTSTART;TZID=America/Los_Angeles:20250729T180000
DTEND;TZID=America/Los_Angeles:20250729T200000
DTSTAMP:20260420T104423
CREATED:20250220T201213Z
LAST-MODIFIED:20250616T182944Z
UID:10001376-1753812000-1753819200@visitgigharbor.com
SUMMARY:2025 Summer Sounds at Skansie Park
DESCRIPTION:Get ready for a summer full of unforgettable music\, scenic waterfront views\, and good vibes at the 2025 Summer Sounds at Skansie Park. Presented by Visit Gig Harbor\, this beloved concert series returns every Tuesday from July 8 to August 26\, bringing the community together for free live music from 6 PM to 8 PM. \n\n\n\nSet against the stunning backdrop of Skansie Brothers Park and the picturesque Gig Harbor waterfront\, each evening promises great tunes\, friendly faces\, and perfect summer memories. Featuring a lineup of rock\, pop\, and high-energy performances\, there’s something for everyone to enjoy under the warm evening sky. \n\n\n\nThis incredible series wouldn’t be possible without the support of our sponsors: \n\n\n\n\nCity of Gig Harbor\n\n\n\nGig Harbor Chamber of Commerce\n\n\n\nVirginia Mason Franciscan Health\n\n\n\nLeMay – America’s Car Museum\n\n\n\n\nMark your calendars—see the full lineup . Bring your lawn chairs\, blankets\, and your best dancing shoes for a summer you won’t forget. \n\n\n\nInterested in becoming a sponsor? Opportunities are still available. Contact us to learn how you can be part of this cherished Gig Harbor tradition.
URL:https://visitgigharbor.com/event/summer-sounds/2025-07-29/
LOCATION:Skansie Brothers Park\, 3211 Harborview Dr\, Gig Harbor\, WA\, 98335\, United States
ATTACH;FMTTYPE=application/pdf:https://visitgigharbor.com/wp-content/uploads/2025/02/SummerSounds_socialgraphics3-3.pdf
ORGANIZER;CN="Visit Gig Harbor":MAILTO:marketing@visitgigharbor.com
END:VEVENT
BEGIN:VEVENT
DTSTART;TZID=America/Los_Angeles:20250724T130000
DTEND;TZID=America/Los_Angeles:20250724T180000
DTSTAMP:20260420T104423
CREATED:20250524T182845Z
LAST-MODIFIED:20250524T182847Z
UID:10005812-1753362000-1753380000@visitgigharbor.com
SUMMARY:Waterfront Farmers Market
DESCRIPTION:Every Thursday 1-6pm\, May 22nd – August 28th \n\n\n\nCelebrating 10 years in 2025!
URL:https://visitgigharbor.com/event/waterfront-farmers-market/2025-07-24/
LOCATION:Skansie Brothers Park\, 3211 Harborview Dr\, Gig Harbor\, WA\, 98335\, United States
ORGANIZER;CN="Gig Harbor Waterfront Alliance":MAILTO:executivedirector@ghdwa.org
END:VEVENT
BEGIN:VEVENT
DTSTART;TZID=America/Los_Angeles:20250722T180000
DTEND;TZID=America/Los_Angeles:20250722T200000
DTSTAMP:20260420T104423
CREATED:20250510T174515Z
LAST-MODIFIED:20250510T174516Z
UID:10005789-1753207200-1753214400@visitgigharbor.com
SUMMARY:Summer Sounds - DJ Mia Maya Concert
DESCRIPTION:
URL:https://visitgigharbor.com/event/summer-sounds-dj-mia-maya-concert/
LOCATION:Skansie Brothers Park\, 3211 Harborview Dr\, Gig Harbor\, WA\, 98335\, United States
ORGANIZER;CN="Visit Gig Harbor":MAILTO:marketing@visitgigharbor.com
END:VEVENT
BEGIN:VEVENT
DTSTART;TZID=America/Los_Angeles:20250722T180000
DTEND;TZID=America/Los_Angeles:20250722T200000
DTSTAMP:20260420T104423
CREATED:20250220T201213Z
LAST-MODIFIED:20250616T182944Z
UID:10001375-1753207200-1753214400@visitgigharbor.com
SUMMARY:2025 Summer Sounds at Skansie Park
DESCRIPTION:Get ready for a summer full of unforgettable music\, scenic waterfront views\, and good vibes at the 2025 Summer Sounds at Skansie Park. Presented by Visit Gig Harbor\, this beloved concert series returns every Tuesday from July 8 to August 26\, bringing the community together for free live music from 6 PM to 8 PM. \n\n\n\nSet against the stunning backdrop of Skansie Brothers Park and the picturesque Gig Harbor waterfront\, each evening promises great tunes\, friendly faces\, and perfect summer memories. Featuring a lineup of rock\, pop\, and high-energy performances\, there’s something for everyone to enjoy under the warm evening sky. \n\n\n\nThis incredible series wouldn’t be possible without the support of our sponsors: \n\n\n\n\nCity of Gig Harbor\n\n\n\nGig Harbor Chamber of Commerce\n\n\n\nVirginia Mason Franciscan Health\n\n\n\nLeMay – America’s Car Museum\n\n\n\n\nMark your calendars—see the full lineup . Bring your lawn chairs\, blankets\, and your best dancing shoes for a summer you won’t forget. \n\n\n\nInterested in becoming a sponsor? Opportunities are still available. Contact us to learn how you can be part of this cherished Gig Harbor tradition.
URL:https://visitgigharbor.com/event/summer-sounds/2025-07-22/
LOCATION:Skansie Brothers Park\, 3211 Harborview Dr\, Gig Harbor\, WA\, 98335\, United States
ATTACH;FMTTYPE=application/pdf:https://visitgigharbor.com/wp-content/uploads/2025/02/SummerSounds_socialgraphics3-3.pdf
ORGANIZER;CN="Visit Gig Harbor":MAILTO:marketing@visitgigharbor.com
END:VEVENT
BEGIN:VEVENT
DTSTART;TZID=America/Los_Angeles:20250717T130000
DTEND;TZID=America/Los_Angeles:20250717T180000
DTSTAMP:20260420T104423
CREATED:20250524T182845Z
LAST-MODIFIED:20250524T182847Z
UID:10005811-1752757200-1752775200@visitgigharbor.com
SUMMARY:Waterfront Farmers Market
DESCRIPTION:Every Thursday 1-6pm\, May 22nd – August 28th \n\n\n\nCelebrating 10 years in 2025!
URL:https://visitgigharbor.com/event/waterfront-farmers-market/2025-07-17/
LOCATION:Skansie Brothers Park\, 3211 Harborview Dr\, Gig Harbor\, WA\, 98335\, United States
ORGANIZER;CN="Gig Harbor Waterfront Alliance":MAILTO:executivedirector@ghdwa.org
END:VEVENT
BEGIN:VEVENT
DTSTART;TZID=America/Los_Angeles:20250715T180000
DTEND;TZID=America/Los_Angeles:20250715T200000
DTSTAMP:20260420T104423
CREATED:20250510T174042Z
LAST-MODIFIED:20250510T180742Z
UID:10005788-1752602400-1752609600@visitgigharbor.com
SUMMARY:Summer Sounds - Gimme Shelter Concert
DESCRIPTION:Rolling Stones tribute band
URL:https://visitgigharbor.com/event/summer-sounds-gimme-shelter-concert/
LOCATION:Skansie Brothers Park\, 3211 Harborview Dr\, Gig Harbor\, WA\, 98335\, United States
ORGANIZER;CN="Visit Gig Harbor":MAILTO:marketing@visitgigharbor.com
END:VEVENT
BEGIN:VEVENT
DTSTART;TZID=America/Los_Angeles:20250715T180000
DTEND;TZID=America/Los_Angeles:20250715T200000
DTSTAMP:20260420T104423
CREATED:20250220T201213Z
LAST-MODIFIED:20250616T182944Z
UID:10001374-1752602400-1752609600@visitgigharbor.com
SUMMARY:2025 Summer Sounds at Skansie Park
DESCRIPTION:Get ready for a summer full of unforgettable music\, scenic waterfront views\, and good vibes at the 2025 Summer Sounds at Skansie Park. Presented by Visit Gig Harbor\, this beloved concert series returns every Tuesday from July 8 to August 26\, bringing the community together for free live music from 6 PM to 8 PM. \n\n\n\nSet against the stunning backdrop of Skansie Brothers Park and the picturesque Gig Harbor waterfront\, each evening promises great tunes\, friendly faces\, and perfect summer memories. Featuring a lineup of rock\, pop\, and high-energy performances\, there’s something for everyone to enjoy under the warm evening sky. \n\n\n\nThis incredible series wouldn’t be possible without the support of our sponsors: \n\n\n\n\nCity of Gig Harbor\n\n\n\nGig Harbor Chamber of Commerce\n\n\n\nVirginia Mason Franciscan Health\n\n\n\nLeMay – America’s Car Museum\n\n\n\n\nMark your calendars—see the full lineup . Bring your lawn chairs\, blankets\, and your best dancing shoes for a summer you won’t forget. \n\n\n\nInterested in becoming a sponsor? Opportunities are still available. Contact us to learn how you can be part of this cherished Gig Harbor tradition.
URL:https://visitgigharbor.com/event/summer-sounds/2025-07-15/
LOCATION:Skansie Brothers Park\, 3211 Harborview Dr\, Gig Harbor\, WA\, 98335\, United States
ATTACH;FMTTYPE=application/pdf:https://visitgigharbor.com/wp-content/uploads/2025/02/SummerSounds_socialgraphics3-3.pdf
ORGANIZER;CN="Visit Gig Harbor":MAILTO:marketing@visitgigharbor.com
END:VEVENT
BEGIN:VEVENT
DTSTART;TZID=America/Los_Angeles:20250710T130000
DTEND;TZID=America/Los_Angeles:20250710T180000
DTSTAMP:20260420T104423
CREATED:20250524T182845Z
LAST-MODIFIED:20250524T182847Z
UID:10005810-1752152400-1752170400@visitgigharbor.com
SUMMARY:Waterfront Farmers Market
DESCRIPTION:Every Thursday 1-6pm\, May 22nd – August 28th \n\n\n\nCelebrating 10 years in 2025!
URL:https://visitgigharbor.com/event/waterfront-farmers-market/2025-07-10/
LOCATION:Skansie Brothers Park\, 3211 Harborview Dr\, Gig Harbor\, WA\, 98335\, United States
ORGANIZER;CN="Gig Harbor Waterfront Alliance":MAILTO:executivedirector@ghdwa.org
END:VEVENT
BEGIN:VEVENT
DTSTART;TZID=America/Los_Angeles:20250708T180000
DTEND;TZID=America/Los_Angeles:20250708T200000
DTSTAMP:20260420T104423
CREATED:20250510T173823Z
LAST-MODIFIED:20250510T173824Z
UID:10005787-1751997600-1752004800@visitgigharbor.com
SUMMARY:Summer Sounds - The Mixed Tape Concert
DESCRIPTION:
URL:https://visitgigharbor.com/event/summer-sounds-the-mixed-tape-concert/
LOCATION:Skansie Brothers Park\, 3211 Harborview Dr\, Gig Harbor\, WA\, 98335\, United States
ORGANIZER;CN="Visit Gig Harbor":MAILTO:marketing@visitgigharbor.com
END:VEVENT
BEGIN:VEVENT
DTSTART;TZID=America/Los_Angeles:20250708T180000
DTEND;TZID=America/Los_Angeles:20250708T200000
DTSTAMP:20260420T104423
CREATED:20250220T201213Z
LAST-MODIFIED:20250616T182944Z
UID:10001373-1751997600-1752004800@visitgigharbor.com
SUMMARY:2025 Summer Sounds at Skansie Park
DESCRIPTION:Get ready for a summer full of unforgettable music\, scenic waterfront views\, and good vibes at the 2025 Summer Sounds at Skansie Park. Presented by Visit Gig Harbor\, this beloved concert series returns every Tuesday from July 8 to August 26\, bringing the community together for free live music from 6 PM to 8 PM. \n\n\n\nSet against the stunning backdrop of Skansie Brothers Park and the picturesque Gig Harbor waterfront\, each evening promises great tunes\, friendly faces\, and perfect summer memories. Featuring a lineup of rock\, pop\, and high-energy performances\, there’s something for everyone to enjoy under the warm evening sky. \n\n\n\nThis incredible series wouldn’t be possible without the support of our sponsors: \n\n\n\n\nCity of Gig Harbor\n\n\n\nGig Harbor Chamber of Commerce\n\n\n\nVirginia Mason Franciscan Health\n\n\n\nLeMay – America’s Car Museum\n\n\n\n\nMark your calendars—see the full lineup . Bring your lawn chairs\, blankets\, and your best dancing shoes for a summer you won’t forget. \n\n\n\nInterested in becoming a sponsor? Opportunities are still available. Contact us to learn how you can be part of this cherished Gig Harbor tradition.
URL:https://visitgigharbor.com/event/summer-sounds/2025-07-08/
LOCATION:Skansie Brothers Park\, 3211 Harborview Dr\, Gig Harbor\, WA\, 98335\, United States
ATTACH;FMTTYPE=application/pdf:https://visitgigharbor.com/wp-content/uploads/2025/02/SummerSounds_socialgraphics3-3.pdf
ORGANIZER;CN="Visit Gig Harbor":MAILTO:marketing@visitgigharbor.com
END:VEVENT
BEGIN:VEVENT
DTSTART;TZID=America/Los_Angeles:20250703T130000
DTEND;TZID=America/Los_Angeles:20250703T180000
DTSTAMP:20260420T104423
CREATED:20250524T182845Z
LAST-MODIFIED:20250524T182847Z
UID:10005809-1751547600-1751565600@visitgigharbor.com
SUMMARY:Waterfront Farmers Market
DESCRIPTION:Every Thursday 1-6pm\, May 22nd – August 28th \n\n\n\nCelebrating 10 years in 2025!
URL:https://visitgigharbor.com/event/waterfront-farmers-market/2025-07-03/
LOCATION:Skansie Brothers Park\, 3211 Harborview Dr\, Gig Harbor\, WA\, 98335\, United States
ORGANIZER;CN="Gig Harbor Waterfront Alliance":MAILTO:executivedirector@ghdwa.org
END:VEVENT
BEGIN:VEVENT
DTSTART;TZID=America/Los_Angeles:20250626T130000
DTEND;TZID=America/Los_Angeles:20250626T180000
DTSTAMP:20260420T104423
CREATED:20250524T182845Z
LAST-MODIFIED:20250524T182847Z
UID:10005808-1750942800-1750960800@visitgigharbor.com
SUMMARY:Waterfront Farmers Market
DESCRIPTION:Every Thursday 1-6pm\, May 22nd – August 28th \n\n\n\nCelebrating 10 years in 2025!
URL:https://visitgigharbor.com/event/waterfront-farmers-market/2025-06-26/
LOCATION:Skansie Brothers Park\, 3211 Harborview Dr\, Gig Harbor\, WA\, 98335\, United States
ORGANIZER;CN="Gig Harbor Waterfront Alliance":MAILTO:executivedirector@ghdwa.org
END:VEVENT
BEGIN:VEVENT
DTSTART;TZID=America/Los_Angeles:20250621T110000
DTEND;TZID=America/Los_Angeles:20250621T160000
DTSTAMP:20260420T104423
CREATED:20250602T211544Z
LAST-MODIFIED:20250602T211546Z
UID:10005819-1750503600-1750521600@visitgigharbor.com
SUMMARY:Pride in the Park
DESCRIPTION:Pride Gig Harbor’s “Pride in the Park” celebrates creativity\, love\, and community in a welcoming\, inclusive environment. 
URL:https://visitgigharbor.com/event/pride-in-the-park/
LOCATION:Skansie Brothers Park\, 3211 Harborview Dr\, Gig Harbor\, WA\, 98335\, United States
END:VEVENT
BEGIN:VEVENT
DTSTART;TZID=America/Los_Angeles:20250619T130000
DTEND;TZID=America/Los_Angeles:20250619T180000
DTSTAMP:20260420T104423
CREATED:20250524T182845Z
LAST-MODIFIED:20250524T182847Z
UID:10005807-1750338000-1750356000@visitgigharbor.com
SUMMARY:Waterfront Farmers Market
DESCRIPTION:Every Thursday 1-6pm\, May 22nd – August 28th \n\n\n\nCelebrating 10 years in 2025!
URL:https://visitgigharbor.com/event/waterfront-farmers-market/2025-06-19/
LOCATION:Skansie Brothers Park\, 3211 Harborview Dr\, Gig Harbor\, WA\, 98335\, United States
ORGANIZER;CN="Gig Harbor Waterfront Alliance":MAILTO:executivedirector@ghdwa.org
END:VEVENT
END:VCALENDAR