BEGIN:VCALENDAR
VERSION:2.0
PRODID:-//Visit Gig Harbor, Washington - ECPv6.15.20//NONSGML v1.0//EN
CALSCALE:GREGORIAN
METHOD:PUBLISH
X-WR-CALNAME:Visit Gig Harbor, Washington
X-ORIGINAL-URL:https://visitgigharbor.com
X-WR-CALDESC:Events for Visit Gig Harbor, Washington
REFRESH-INTERVAL;VALUE=DURATION:PT1H
X-Robots-Tag:noindex
X-PUBLISHED-TTL:PT1H
BEGIN:VTIMEZONE
TZID:America/Los_Angeles
BEGIN:DAYLIGHT
TZOFFSETFROM:-0800
TZOFFSETTO:-0700
TZNAME:PDT
DTSTART:20240310T100000
END:DAYLIGHT
BEGIN:STANDARD
TZOFFSETFROM:-0700
TZOFFSETTO:-0800
TZNAME:PST
DTSTART:20241103T090000
END:STANDARD
BEGIN:DAYLIGHT
TZOFFSETFROM:-0800
TZOFFSETTO:-0700
TZNAME:PDT
DTSTART:20250309T100000
END:DAYLIGHT
BEGIN:STANDARD
TZOFFSETFROM:-0700
TZOFFSETTO:-0800
TZNAME:PST
DTSTART:20251102T090000
END:STANDARD
BEGIN:DAYLIGHT
TZOFFSETFROM:-0800
TZOFFSETTO:-0700
TZNAME:PDT
DTSTART:20260308T100000
END:DAYLIGHT
BEGIN:STANDARD
TZOFFSETFROM:-0700
TZOFFSETTO:-0800
TZNAME:PST
DTSTART:20261101T090000
END:STANDARD
END:VTIMEZONE
BEGIN:VEVENT
DTSTART;TZID=America/Los_Angeles:20250708T180000
DTEND;TZID=America/Los_Angeles:20250708T200000
DTSTAMP:20260422T073553
CREATED:20250510T173823Z
LAST-MODIFIED:20250510T173824Z
UID:10005787-1751997600-1752004800@visitgigharbor.com
SUMMARY:Summer Sounds - The Mixed Tape Concert
DESCRIPTION:
URL:https://visitgigharbor.com/event/summer-sounds-the-mixed-tape-concert/
LOCATION:Skansie Brothers Park\, 3211 Harborview Dr\, Gig Harbor\, WA\, 98335\, United States
ORGANIZER;CN="Visit Gig Harbor":MAILTO:marketing@visitgigharbor.com
END:VEVENT
BEGIN:VEVENT
DTSTART;TZID=America/Los_Angeles:20250708T180000
DTEND;TZID=America/Los_Angeles:20250708T200000
DTSTAMP:20260422T073553
CREATED:20250220T201213Z
LAST-MODIFIED:20250616T182944Z
UID:10001373-1751997600-1752004800@visitgigharbor.com
SUMMARY:2025 Summer Sounds at Skansie Park
DESCRIPTION:Get ready for a summer full of unforgettable music\, scenic waterfront views\, and good vibes at the 2025 Summer Sounds at Skansie Park. Presented by Visit Gig Harbor\, this beloved concert series returns every Tuesday from July 8 to August 26\, bringing the community together for free live music from 6 PM to 8 PM. \n\n\n\nSet against the stunning backdrop of Skansie Brothers Park and the picturesque Gig Harbor waterfront\, each evening promises great tunes\, friendly faces\, and perfect summer memories. Featuring a lineup of rock\, pop\, and high-energy performances\, there’s something for everyone to enjoy under the warm evening sky. \n\n\n\nThis incredible series wouldn’t be possible without the support of our sponsors: \n\n\n\n\nCity of Gig Harbor\n\n\n\nGig Harbor Chamber of Commerce\n\n\n\nVirginia Mason Franciscan Health\n\n\n\nLeMay – America’s Car Museum\n\n\n\n\nMark your calendars—see the full lineup . Bring your lawn chairs\, blankets\, and your best dancing shoes for a summer you won’t forget. \n\n\n\nInterested in becoming a sponsor? Opportunities are still available. Contact us to learn how you can be part of this cherished Gig Harbor tradition.
URL:https://visitgigharbor.com/event/summer-sounds/2025-07-08/
LOCATION:Skansie Brothers Park\, 3211 Harborview Dr\, Gig Harbor\, WA\, 98335\, United States
ATTACH;FMTTYPE=application/pdf:https://visitgigharbor.com/wp-content/uploads/2025/02/SummerSounds_socialgraphics3-3.pdf
ORGANIZER;CN="Visit Gig Harbor":MAILTO:marketing@visitgigharbor.com
END:VEVENT
BEGIN:VEVENT
DTSTART;TZID=America/Los_Angeles:20250703T130000
DTEND;TZID=America/Los_Angeles:20250703T180000
DTSTAMP:20260422T073553
CREATED:20250524T182845Z
LAST-MODIFIED:20250524T182847Z
UID:10005809-1751547600-1751565600@visitgigharbor.com
SUMMARY:Waterfront Farmers Market
DESCRIPTION:Every Thursday 1-6pm\, May 22nd – August 28th \n\n\n\nCelebrating 10 years in 2025!
URL:https://visitgigharbor.com/event/waterfront-farmers-market/2025-07-03/
LOCATION:Skansie Brothers Park\, 3211 Harborview Dr\, Gig Harbor\, WA\, 98335\, United States
ORGANIZER;CN="Gig Harbor Waterfront Alliance":MAILTO:executivedirector@ghdwa.org
END:VEVENT
BEGIN:VEVENT
DTSTART;TZID=America/Los_Angeles:20250626T130000
DTEND;TZID=America/Los_Angeles:20250626T180000
DTSTAMP:20260422T073553
CREATED:20250524T182845Z
LAST-MODIFIED:20250524T182847Z
UID:10005808-1750942800-1750960800@visitgigharbor.com
SUMMARY:Waterfront Farmers Market
DESCRIPTION:Every Thursday 1-6pm\, May 22nd – August 28th \n\n\n\nCelebrating 10 years in 2025!
URL:https://visitgigharbor.com/event/waterfront-farmers-market/2025-06-26/
LOCATION:Skansie Brothers Park\, 3211 Harborview Dr\, Gig Harbor\, WA\, 98335\, United States
ORGANIZER;CN="Gig Harbor Waterfront Alliance":MAILTO:executivedirector@ghdwa.org
END:VEVENT
BEGIN:VEVENT
DTSTART;TZID=America/Los_Angeles:20250621T110000
DTEND;TZID=America/Los_Angeles:20250621T160000
DTSTAMP:20260422T073553
CREATED:20250602T211544Z
LAST-MODIFIED:20250602T211546Z
UID:10005819-1750503600-1750521600@visitgigharbor.com
SUMMARY:Pride in the Park
DESCRIPTION:Pride Gig Harbor’s “Pride in the Park” celebrates creativity\, love\, and community in a welcoming\, inclusive environment. 
URL:https://visitgigharbor.com/event/pride-in-the-park/
LOCATION:Skansie Brothers Park\, 3211 Harborview Dr\, Gig Harbor\, WA\, 98335\, United States
END:VEVENT
BEGIN:VEVENT
DTSTART;TZID=America/Los_Angeles:20250619T130000
DTEND;TZID=America/Los_Angeles:20250619T180000
DTSTAMP:20260422T073553
CREATED:20250524T182845Z
LAST-MODIFIED:20250524T182847Z
UID:10005807-1750338000-1750356000@visitgigharbor.com
SUMMARY:Waterfront Farmers Market
DESCRIPTION:Every Thursday 1-6pm\, May 22nd – August 28th \n\n\n\nCelebrating 10 years in 2025!
URL:https://visitgigharbor.com/event/waterfront-farmers-market/2025-06-19/
LOCATION:Skansie Brothers Park\, 3211 Harborview Dr\, Gig Harbor\, WA\, 98335\, United States
ORGANIZER;CN="Gig Harbor Waterfront Alliance":MAILTO:executivedirector@ghdwa.org
END:VEVENT
BEGIN:VEVENT
DTSTART;TZID=America/Los_Angeles:20250612T130000
DTEND;TZID=America/Los_Angeles:20250612T180000
DTSTAMP:20260422T073553
CREATED:20250524T182845Z
LAST-MODIFIED:20250524T182847Z
UID:10005806-1749733200-1749751200@visitgigharbor.com
SUMMARY:Waterfront Farmers Market
DESCRIPTION:Every Thursday 1-6pm\, May 22nd – August 28th \n\n\n\nCelebrating 10 years in 2025!
URL:https://visitgigharbor.com/event/waterfront-farmers-market/2025-06-12/
LOCATION:Skansie Brothers Park\, 3211 Harborview Dr\, Gig Harbor\, WA\, 98335\, United States
ORGANIZER;CN="Gig Harbor Waterfront Alliance":MAILTO:executivedirector@ghdwa.org
END:VEVENT
BEGIN:VEVENT
DTSTART;TZID=America/Los_Angeles:20250605T130000
DTEND;TZID=America/Los_Angeles:20250605T180000
DTSTAMP:20260422T073553
CREATED:20250524T182845Z
LAST-MODIFIED:20250524T182847Z
UID:10005805-1749128400-1749146400@visitgigharbor.com
SUMMARY:Waterfront Farmers Market
DESCRIPTION:Every Thursday 1-6pm\, May 22nd – August 28th \n\n\n\nCelebrating 10 years in 2025!
URL:https://visitgigharbor.com/event/waterfront-farmers-market/2025-06-05/
LOCATION:Skansie Brothers Park\, 3211 Harborview Dr\, Gig Harbor\, WA\, 98335\, United States
ORGANIZER;CN="Gig Harbor Waterfront Alliance":MAILTO:executivedirector@ghdwa.org
END:VEVENT
BEGIN:VEVENT
DTSTART;TZID=America/Los_Angeles:20250531T120000
DTEND;TZID=America/Los_Angeles:20250531T180000
DTSTAMP:20260422T073553
CREATED:20250510T182120Z
LAST-MODIFIED:20250510T182122Z
UID:10005795-1748692800-1748714400@visitgigharbor.com
SUMMARY:Croatia Day
DESCRIPTION:After a 1-year closure for repairs\, Skansie Netshed will celebrate its Grand Re-Opening on Saturday\, the 31st of May\, for Croatia Day in Gig Harbor. The Vela Luka Croatian Dance Ensemble\, the Bonaca Orchestra\, the Seattle Junior Tamburitzans and Sinovi will perform under the Pavilion at Skansie Brothers Park. Food booths\, crafts\, and demonstrations will round out the day for “sve hrvatsko!” (Everything Croatian)
URL:https://visitgigharbor.com/event/croatia-day/
LOCATION:Skansie Brothers Park\, 3211 Harborview Dr\, Gig Harbor\, WA\, 98335\, United States
END:VEVENT
BEGIN:VEVENT
DTSTART;TZID=America/Los_Angeles:20250529T130000
DTEND;TZID=America/Los_Angeles:20250529T180000
DTSTAMP:20260422T073553
CREATED:20250524T182845Z
LAST-MODIFIED:20250524T182847Z
UID:10005804-1748523600-1748541600@visitgigharbor.com
SUMMARY:Waterfront Farmers Market
DESCRIPTION:Every Thursday 1-6pm\, May 22nd – August 28th \n\n\n\nCelebrating 10 years in 2025!
URL:https://visitgigharbor.com/event/waterfront-farmers-market/2025-05-29/
LOCATION:Skansie Brothers Park\, 3211 Harborview Dr\, Gig Harbor\, WA\, 98335\, United States
ORGANIZER;CN="Gig Harbor Waterfront Alliance":MAILTO:executivedirector@ghdwa.org
END:VEVENT
BEGIN:VEVENT
DTSTART;TZID=America/Los_Angeles:20250522T130000
DTEND;TZID=America/Los_Angeles:20250522T180000
DTSTAMP:20260422T073553
CREATED:20250524T182845Z
LAST-MODIFIED:20250524T182847Z
UID:10005803-1747918800-1747936800@visitgigharbor.com
SUMMARY:Waterfront Farmers Market
DESCRIPTION:Every Thursday 1-6pm\, May 22nd – August 28th \n\n\n\nCelebrating 10 years in 2025!
URL:https://visitgigharbor.com/event/waterfront-farmers-market/2025-05-22/
LOCATION:Skansie Brothers Park\, 3211 Harborview Dr\, Gig Harbor\, WA\, 98335\, United States
ORGANIZER;CN="Gig Harbor Waterfront Alliance":MAILTO:executivedirector@ghdwa.org
END:VEVENT
BEGIN:VEVENT
DTSTART;TZID=America/Los_Angeles:20250521T130000
DTEND;TZID=America/Los_Angeles:20250521T180000
DTSTAMP:20260422T073553
CREATED:20260211T195456Z
LAST-MODIFIED:20260211T195458Z
UID:10005817-1747832400-1747850400@visitgigharbor.com
SUMMARY:Waterfront Farmers Market
DESCRIPTION:Every Thursday 1-6pm\, May 22nd – August 28th \n\n\n\nCheck out local venders from all across the greater Gig Harbor area\, selling fresh produce\, local artwork\, and much more!
URL:https://visitgigharbor.com/event/waterfront-farmers-market-2/
LOCATION:Skansie Brothers Park\, 3211 Harborview Dr\, Gig Harbor\, WA\, 98335\, United States
ORGANIZER;CN="Gig Harbor Waterfront Alliance":MAILTO:executivedirector@ghdwa.org
END:VEVENT
END:VCALENDAR