BEGIN:VCALENDAR
VERSION:2.0
PRODID:-//Visit Gig Harbor, Washington - ECPv6.15.20//NONSGML v1.0//EN
CALSCALE:GREGORIAN
METHOD:PUBLISH
X-ORIGINAL-URL:https://visitgigharbor.com
X-WR-CALDESC:Events for Visit Gig Harbor, Washington
REFRESH-INTERVAL;VALUE=DURATION:PT1H
X-Robots-Tag:noindex
X-PUBLISHED-TTL:PT1H
BEGIN:VTIMEZONE
TZID:America/Los_Angeles
BEGIN:DAYLIGHT
TZOFFSETFROM:-0800
TZOFFSETTO:-0700
TZNAME:PDT
DTSTART:20250309T100000
END:DAYLIGHT
BEGIN:STANDARD
TZOFFSETFROM:-0700
TZOFFSETTO:-0800
TZNAME:PST
DTSTART:20251102T090000
END:STANDARD
BEGIN:DAYLIGHT
TZOFFSETFROM:-0800
TZOFFSETTO:-0700
TZNAME:PDT
DTSTART:20260308T100000
END:DAYLIGHT
BEGIN:STANDARD
TZOFFSETFROM:-0700
TZOFFSETTO:-0800
TZNAME:PST
DTSTART:20261101T090000
END:STANDARD
BEGIN:DAYLIGHT
TZOFFSETFROM:-0800
TZOFFSETTO:-0700
TZNAME:PDT
DTSTART:20270314T100000
END:DAYLIGHT
BEGIN:STANDARD
TZOFFSETFROM:-0700
TZOFFSETTO:-0800
TZNAME:PST
DTSTART:20271107T090000
END:STANDARD
END:VTIMEZONE
BEGIN:VEVENT
DTSTART;TZID=America/Los_Angeles:20260516T120000
DTEND;TZID=America/Los_Angeles:20260516T170000
DTSTAMP:20260422T103736
CREATED:20260207T203854Z
LAST-MODIFIED:20260207T203856Z
UID:10005859-1778932800-1778950800@visitgigharbor.com
SUMMARY:Uptown Gig Harbor - Beer Festival
DESCRIPTION:The 15th Annual Gig Harbor Beer Festival is happening! Created by Kiwanis of Gig Harbor\, it is an event full of fun\, music\, and adult drinks!  \n\n\n\nEnjoy the beautiful May weather with live music\, food\, and an amazing community.
URL:https://visitgigharbor.com/event/uptown-gig-harbor-beer-festival/
LOCATION:Uptown Gig Harbor Pavilion\, 4701 Point Fosdick Dr\, Gig Harbor\, WA\, 98335\, United States
END:VEVENT
BEGIN:VEVENT
DTSTART;TZID=America/Los_Angeles:20261030T110000
DTEND;TZID=America/Los_Angeles:20261030T170000
DTSTAMP:20260422T103736
CREATED:20260207T210911Z
LAST-MODIFIED:20260207T211200Z
UID:10005868-1793358000-1793379600@visitgigharbor.com
SUMMARY:Giant Pumpkin Carving - Uptown Gig Harbor
DESCRIPTION:Join us on October 30th for an exciting and spooky experience as Russ Leno\, one of the world’s top giant pumpkin sculptors\, carves out the fun! Watch the master at work and learn carving tips from the best. The carving of our GIANT pumpkin will kick off at 11 am—don’t miss it!
URL:https://visitgigharbor.com/event/giant-pumpkin-carving-uptown-gig-harbor/
LOCATION:Uptown Gig Harbor Pavilion\, 4701 Point Fosdick Dr\, Gig Harbor\, WA\, 98335\, United States
END:VEVENT
END:VCALENDAR